Workbook

Sheet 표지
A2: 2025 파주시자원봉사센터 우수프로그램 지원사업
A3: 정 산 보 고 서
B5: ○ 공모 분야 :
B6: ○ 사 업 명 :
B8: 작 성 실 무 책임자 연락처 | C8: 사무실주소
C9: 연락처
C10: FAX
C11: E-mail
C12: 실무자 | D12: 직위 | E12: 회장 | F12: 성명
B13: 예산액 | C13: =E13+G13 -> 0 | D13: 보조금 | F13: 자부담
B15: 단체명: | G15: (직인)

Sheet 정산보고서
A1: 사업명: | C1: =표지!D6 -> 0
A2: (공모분야 : ) | C2: =표지!D5 -> 0
A4: 1. 정산 총괄표
A5: 구분 | C5: 예산액 (총사업비) | D5: 집행액 | F5: 예산잔액 | G5: 반납액 | H5: 비 고
A6: 계 | C6: =SUM(C7:C10) -> 0 | D6: =SUM(D7:E8) -> 0 | F6: =C6-D6 -> 0 | G6: =SUM(G7:G10) -> 0
A7: 보조금 | C7: =표지!E13 -> 0 | D7: =SUMIF(C17:C66,A7,E17:E66) -> 0 | F7: =C7-D7 -> 0 | G7: =F7 -> 0
A8: 자부담 | C8: =표지!G13 -> 0 | D8: =SUMIF(C17:C66,A8,E17:E66) -> 0 | F8: =C8-D8 -> 0 | G8: =F8 -> 0
A9: 예금이자 | C9: =SUMIF(C17:C66,A9,E17:E66) -> 0 | G9: =C9 -> 0
A10: 기타수입 | C10: =SUMIF(C17:C66,A10,E17:E66) -> 0 | G10: =C10 -> 0
A13: 2. 보조금 집행현황(지출액)
A14: 1) 보조금 집행내역
A15: 번 호 | B15: 지출일자 | C15: 지출구분 | D15: 집 행 내 역 | F15: 거래처 | G15: 결재 방법 | H15: 거래 은행 | I15: 비고
D16: 적 요 | E16: 지출액
A17: 1
A18: 2
A19: 3
A20: 4
A21: 5
A22: 6
A23: 7
A24: 8
A25: 9
A26: 10
A27: 11
A28: 12
... A31: 15
A32: 16 | M32: ㅕ
A33: 17
A34: 18
A35: 19
A36: 20
A37: 21
A38: 22
A39: 23
A40: 24
A41: 25
A42: 26
A43: 27
A44: 28
... A66: 50
A67: ※ 작성시 참고사항 : 영수증 및 무통장 입금표는 지출내역을 확인할 수 있도록 A4용지에 부착하여 순서대로 편철
A69: 3. 보조금 집행잔액 발생사유
A70: 일자 | C70: 발생 내역 | E70: 예산액 | F70: 지출액 | G70: 집행잔액 | I70: 비고
A72: ※ 발생사유: 사업취소 등 부득이한 사유로 사업을 수행할 수 없을 경우 기재
A74: 4. 사업계획 및 예산 집행계획 변경내역(변경사항이 있을 경우만 작성)
A75: 사업(세부)내용 | D75: 예산비목 | E75: 당초예산 | F75: 변경예산 | G75: 변경사유 | H75: 승인여부
A79: ※ 승인여부 : 자원봉사센터 또는 자체변경(내부 결재문서 사본 첨부)으로 구분 기재

Sheet 지출결의서
A1: 2025 파주시자원봉사센터 우수프로그램 공모사업
A2: 지 출 결 의 서
A3: 증 제2025-01 | C3: 담당 | D3: 회장 | E3: 재무 | F3: 지출원
A5: 지출과목 (보조금/자부담) | B5: =정산보고서!C17 -> 0 | C5: 지 출 일 | E5: =정산보고서!B17 -> 0
A6: 사업명 | B6: =표지!$D$6 -> 0
A7: 지출금액 | B7: =D7 -> 0 | D7: =정산보고서!E17 -> 0 | E7: 원
A8: 지출적요 | B8: =정산보고서!D17 -> 0
A9: 채 주 | B9: *상호명: | C9: =정산보고서!F17 -> 0
B10: *거래방법: | C10: =정산보고서!G17 -> 0
B11: *계좌번호: | C11: =정산보고서!I17 -> 0 | E11: 은행명: | F11: =정산보고서!H17 -> 0
A12: 영 수 | B12: *업체명: | C12: =C9 -> 0
B13: *지출일자 | C13: =E5 -> 0
B14: 위 금액을 영수함.
A15: 상기와 같이 지출하고자 합니다.
A21: 2025 파주시자원봉사센터 우수프로그램 공모사업
A22: 지 출 결 의 서
A23: 증 제2025-02 | C23: 담당 | D23: 회장 | E23: 재무 | F23: 지출원
A25: 지출과목 (보조금/자부담) | B25: =정산보고서!C18 -> 0 | C25: 지 출 일 | E25: =정산보고서!B18 -> 0
A26: 사업명 | B26: =표지!$D$6 -> 0
A27: 지출금액 | B27: =D27 -> 0 | D27: =정산보고서!E18 -> 0 | E27: 원
A28: 지출적요 | B28: =정산보고서!D18 -> 0
A29: 채 주 | B29: *상호명: | C29: =정산보고서!F18 -> 0
B30: *거래방법: | C30: =정산보고서!G18 -> 0
B31: *계좌번호: | C31: =정산보고서!I18 -> 0 | E31: 은행명: | F31: =정산보고서!H18 -> 0
A32: 영 수 | B32: *업체명: | C32: =C29 -> 0
B33: *지출일자 | C33: =E25 -> 0
B34: 위 금액을 영수함.
A35: 상기와 같이 지출하고자 합니다.
A41: 2025 파주시자원봉사센터 우수프로그램 공모사업
A42: 지 출 결 의 서
A43: 증 제2025-03 | C43: 담당 | D43: 회장 | E43: 재무 | F43: 지출원
A45: 지출과목 (보조금/자부담) | B45: =정산보고서!C19 -> 0 | C45: 지 출 일 | E45: =정산보고서!B19 -> 0
A46: 사업명 | B46: =표지!$D$6 -> 0
A47: 지출금액 | B47: =D47 -> 0 | D47: =정산보고서!E19 -> 0 | E47: 원
A48: 지출적요 | B48: =정산보고서!D19 -> 0
A49: 채 주 | B49: *상호명: | C49: =정산보고서!F19 -> 0
B50: *거래방법: | C50: =정산보고서!G19 -> 0
B51: *계좌번호: | C51: =정산보고서!I19 -> 0 | E51: 은행명: | F51: =정산보고서!H19 -> 0
A52: 영 수 | B52: *업체명: | C52: =C49 -> 0
B53: *지출일자 | C53: =E45 -> 0
B54: 위 금액을 영수함.
A55: 상기와 같이 지출하고자 합니다.
A61: 2025 파주시자원봉사센터 우수프로그램 공모사업
A62: 지 출 결 의 서
A63: 증 제2025-04 | C63: 담당 | D63: 회장 | E63: 재무 | F63: 지출원
A65: 지출과목 (보조금/자부담) | B65: =정산보고서!C20 -> 0 | C65: 지 출 일 | E65: =정산보고서!B20 -> 0
A66: 사업명 | B66: =표지!$D$6 -> 0
A67: 지출금액 | B67: =D67 -> 0 | D67: =정산보고서!E20 -> 0 | E67: 원
A68: 지출적요 | B68: =정산보고서!D20 -> 0
A69: 채 주 | B69: *상호명: | C69: =정산보고서!F20 -> 0
B70: *거래방법: | C70: =정산보고서!G20 -> 0
B71: *계좌번호: | C71: =정산보고서!I20 -> 0 | E71: 은행명: | F71: =정산보고서!H20 -> 0
A72: 영 수 | B72: *업체명: | C72: =C69 -> 0
B73: *지출일자 | C73: =E65 -> 0
B74: 위 금액을 영수함.
A75: 상기와 같이 지출하고자 합니다.
A81: 2025 파주시자원봉사센터 우수프로그램 공모사업
A82: 지 출 결 의 서
A83: 증 제2025-05 | C83: 담당 | D83: 회장 | E83: 재무 | F83: 지출원
A85: 지출과목 (보조금/자부담) | B85: =정산보고서!C21 -> 0 | C85: 지 출 일 | E85: =정산보고서!B21 -> 0
A86: 사업명 | B86: =표지!$D$6 -> 0
A87: 지출금액 | B87: =D87 -> 0 | D87: =정산보고서!E21 -> 0 | E87: 원
A88: 지출적요 | B88: =정산보고서!D21 -> 0
A89: 채 주 | B89: *상호명: | C89: =정산보고서!F21 -> 0
B90: *거래방법: | C90: =정산보고서!G21 -> 0
B91: *계좌번호: | C91: =정산보고서!I21 -> 0 | E91: 은행명: | F91: =정산보고서!H21 -> 0
A92: 영 수 | B92: *업체명: | C92: =C89 -> 0
B93: *지출일자 | C93: =E85 -> 0
B94: 위 금액을 영수함.
A95: 상기와 같이 지출하고자 합니다.
A101: 2025 파주시자원봉사센터 우수프로그램 공모사업
A102: 지 출 결 의 서
A103: 증 제2025-06 | C103: 담당 | D103: 회장 | E103: 재무 | F103: 지출원
A105: 지출과목 (보조금/자부담) | B105: =정산보고서!C22 -> 0 | C105: 지 출 일 | E105: =정산보고서!B22 -> 0
A106: 사업명 | B106: =표지!$D$6 -> 0
A107: 지출금액 | B107: =D107 -> 0 | D107: =정산보고서!E22 -> 0 | E107: 원
A108: 지출적요 | B108: =정산보고서!D22 -> 0
A109: 채 주 | B109: *상호명: | C109: =정산보고서!F22 -> 0
B110: *거래방법: | C110: =정산보고서!G22 -> 0
B111: *계좌번호: | C111: =정산보고서!I22 -> 0 | E111: 은행명: | F111: =정산보고서!H22 -> 0
A112: 영 수 | B112: *업체명: | C112: =C109 -> 0
B113: *지출일자 | C113: =E105 -> 0
B114: 위 금액을 영수함.
A115: 상기와 같이 지출하고자 합니다.
A121: 2025 파주시자원봉사센터 우수프로그램 공모사업
A122: 지 출 결 의 서
A123: 증 제2025-07 | C123: 담당 | D123: 회장 | E123: 재무 | F123: 지출원
A125: 지출과목 (보조금/자부담) | B125: =정산보고서!C23 -> 0 | C125: 지 출 일 | E125: =정산보고서!B23 -> 0
A126: 사업명 | B126: =표지!$D$6 -> 0
A127: 지출금액 | B127: =D127 -> 0 | D127: =정산보고서!E23 -> 0 | E127: 원
A128: 지출적요 | B128: =정산보고서!D23 -> 0
A129: 채 주 | B129: *상호명: | C129: =정산보고서!F23 -> 0
B130: *거래방법: | C130: =정산보고서!G23 -> 0
B131: *계좌번호: | C131: =정산보고서!I23 -> 0 | E131: 은행명: | F131: =정산보고서!H23 -> 0
A132: 영 수 | B132: *업체명: | C132: =C129 -> 0
B133: *지출일자 | C133: =E125 -> 0
B134: 위 금액을 영수함.
A135: 상기와 같이 지출하고자 합니다.
A141: 2025 파주시자원봉사센터 우수프로그램 공모사업
A142: 지 출 결 의 서
...

Sheet .
A1: 지출구분
A2: 보조금 | B2: 이체
A3: 자부담 | B3: 카드
A4: 예금이자
A5: 기타수입
